BEGIN:VCALENDAR
VERSION:2.0
PRODID:-//eventon.com NONSGML v1.0//EN
CALSCALE:GREGORIAN
METHOD:PUBLISH
BEGIN:VEVENT
UID:69e5df6e4237f
DTSTAMP:20260420T081022Z
DTSTART:20240417
DTEND:20240418
LOCATION:
SUMMARY:Hurstville Swish Camp
DESCRIPTION:Hurstville Swish Camp\nhttps://swishbasketball.com.au/events/ch
 ristmas-closure/
URL:https://swishbasketball.com.au/events/christmas-closure/
END:VEVENT
END:VCALENDAR